Workbook

Sheet 部門一覧
B2: 部門番号 | C2: 種目名 | D2: 料金
B3: 1 | C3: 800ｍファミリーの部 | D3: 保護者・こども 1名につき1,500円 | E3: ※小学生3年生以下の子ども1名〜2名と その保護者1名の計3名まで(記録計測なし)
B4: 2 | C4: 2km小学生男子（1・2・3年） | D4: 小・中学生 1,500円 高 校 生 2,500円 一 般 3,500円
B5: 3 | C5: 2km小学生女子（1・2・3年）
B6: 4 | C6: 2km小学生男子（4・5・6年）
B7: 5 | C7: 2km小学生女子（4・5・6年）
B8: 6 | C8: 2km一般男子（中学生以上）
B9: 7 | C9: 2km一般女子（中学生以上）
B10: 8 | C10: 5km高校生男子 | D10: 高 校 生 2,500円 一 般 3,500円
B11: 9 | C11: 5km高校生女子
B12: 10 | C12: 5km一般男子
B13: 11 | C13: 5km一般女子
B14: 12 | C14: ハーフマラソン（29歳以下男子） | D14: 高 校 生 2,500円 一 般 4,500円
B15: 13 | C15: ハーフマラソン（30歳代男子）
B16: 14 | C16: ハーフマラソン（40歳代男子）
B17: 15 | C17: ハーフマラソン（50歳以上男子）
B18: 16 | C18: ハーフマラソン（29歳以下女子）
B19: 17 | C19: ハーフマラソン（30歳代女子）
B20: 18 | C20: ハーフマラソン（40歳代女子）
B21: 19 | C21: ハーフマラソン（50歳以上女子）

Sheet 代表者 
A1: 団体名 | B1: 郵便番号 | C1: 住所 | D1: TEL | E1: 申込責任者
N2: 1
I3: 料金 | J3: 人数 | K3: 金額 | N3: 2
G4: ファミリーの部 ※保護者・こども1名につき1,500円 | I4: 1500 | K4: =IF(J4="","",I4*J4) | N4: 3
H5: 小・中 | I5: 1500 | K5: =IF(J5="","",I5*J5) | N5: 4
G6: 2ｋｍの部 | H6: 高校生 | I6: 2500 | K6: =IF(J6="","",I6*J6) | N6: 5
H7: 一 般 | I7: 3500 | K7: =IF(J7="","",I7*J7) | N7: 6
G8: 5ｋｍの部 | H8: 高校生 | I8: 2500 | K8: =IF(J8="","",I8*J8) | N8: 7
H9: 一 般 | I9: 3500 | K9: =IF(J9="","",I9*J9) | N9: 8
G10: ハーフの部 | H10: 高校生 | I10: 2500 | K10: =IF(J10="","",I10*J10) | N10: 9
H11: 一 般 | I11: 4500 | K11: =IF(J11="","",I11*J11) | N11: 10
J12: 合計 | K12: =SUM(K4:K11) -> 0 | N12: 11
N13: 12
N14: 13
N15: 14
N16: 15
N17: 16
N18: 17
N19: 18
N20: 19

Sheet 参加者（入力用）
B1: ※太枠内を入力してください
B2: ※ファミリーの部にご参加される方は子どもの氏名等の入力をお願いいたします
A3: 受付番号 | B3: 氏名（姓） | C3: 氏名（名） | D3: フリガナ（姓） | E3: フリガナ（名） | F3: 性別 | G3: 生年月日(yyyy/mm/ddで入力) | H3: 年齢（大会当日） | I3: 学年 | J3: 料金 | K3: 部門番号 | L3: 種目 | M3: Tシャツサイズ（無記名はL） | N3: 郵便番号 | O3: 住所① | P3: 住所②(番地・マンション名等) | Q3: TEL | R3: ファミリー子供①氏名（姓） | S3: ファミリー子供①氏名（名） | T3: ファミリー子供①フリガナ（姓） | U3: ファミリー子供①フリガナ（名） | V3: ファミリー子供①生年月日(yyyy/mm/ddで入力) | W3: ファミリー子供①年齢（大会当日） | X3: ファミリー子供②氏名（姓） | Y3: ファミリー子供②氏名（名） | Z3: ファミリー子供②フリガナ（姓） | AA3: ファミリー子供②フリガナ（名） | AB3: ファミリー子供②生年月日(yyyy/mm/ddで入力) | AC3: ファミリー子供②年齢（大会当日） | AD3: 団体名 | AE3: 申込責任者
A4: 1 | H4: =IF(G4="", "", DATEDIF(G4, DATE(2027, 2,7), "Y")) | L4: =IFERROR(VLOOKUP($K4,部門一覧!$B$3:$C$21,2,FALSE),"") | W4: =IF(V4="", "", DATEDIF(#REF!, DATE(2027, 2,7), "Y")) | AC4: =IF(AB4="", "", DATEDIF(#REF!, DATE(2027, 2,7), "Y")) | AD4: =IF($B4="","",'代表者 '!$A$2) | AE4: =IF($B4="","",'代表者 '!$E$2) | AG4: 男性 | AH4: 小学 1年 | AI4: SS
A5: 2 | H5: =IF(G5="", "", DATEDIF(G5, DATE(2027, 2,7), "Y")) | L5: =IFERROR(VLOOKUP($K5,部門一覧!$B$3:$C$21,2,FALSE),"") | AD5: =IF($B5="","",'代表者 '!$A$2) | AE5: =IF($B5="","",'代表者 '!$E$2) | AG5: 女性 | AH5: 小学 2年 | AI5: S
A6: 3 | H6: =IF(G6="", "", DATEDIF(G6, DATE(2027, 2,7), "Y")) | L6: =IFERROR(VLOOKUP($K6,部門一覧!$B$3:$C$21,2,FALSE),"") | AD6: =IF($B6="","",'代表者 '!$A$2) | AE6: =IF($B6="","",'代表者 '!$E$2) | AH6: 小学 3年 | AI6: M
A7: 4 | H7: =IF(G7="", "", DATEDIF(G7, DATE(2027, 2,7), "Y")) | L7: =IFERROR(VLOOKUP($K7,部門一覧!$B$3:$C$21,2,FALSE),"") | AD7: =IF($B7="","",'代表者 '!$A$2) | AE7: =IF($B7="","",'代表者 '!$E$2) | AH7: 小学 4年 | AI7: L
A8: 5 | H8: =IF(G8="", "", DATEDIF(G8, DATE(2027, 2,7), "Y")) | L8: =IFERROR(VLOOKUP($K8,部門一覧!$B$3:$C$21,2,FALSE),"") | AD8: =IF($B8="","",'代表者 '!$A$2) | AE8: =IF($B8="","",'代表者 '!$E$2) | AH8: 小学 5年 | AI8: LL
A9: 6 | H9: =IF(G9="", "", DATEDIF(G9, DATE(2027, 2,7), "Y")) | L9: =IFERROR(VLOOKUP($K9,部門一覧!$B$3:$C$21,2,FALSE),"") | AD9: =IF($B9="","",'代表者 '!$A$2) | AE9: =IF($B9="","",'代表者 '!$E$2) | AH9: 小学 6年
A10: 7 | H10: =IF(G10="", "", DATEDIF(G10, DATE(2027, 2,7), "Y")) | L10: =IFERROR(VLOOKUP($K10,部門一覧!$B$3:$C$21,2,FALSE),"") | AD10: =IF($B10="","",'代表者 '!$A$2) | AE10: =IF($B10="","",'代表者 '!$E$2) | AH10: 中学 1年
A11: 8 | H11: =IF(G11="", "", DATEDIF(G11, DATE(2027, 2,7), "Y")) | L11: =IFERROR(VLOOKUP($K11,部門一覧!$B$3:$C$21,2,FALSE),"") | AD11: =IF($B11="","",'代表者 '!$A$2) | AE11: =IF($B11="","",'代表者 '!$E$2) | AH11: 中学 2年
A12: 9 | H12: =IF(G12="", "", DATEDIF(G12, DATE(2027, 2,7), "Y")) | L12: =IFERROR(VLOOKUP($K12,部門一覧!$B$3:$C$21,2,FALSE),"") | AD12: =IF($B12="","",'代表者 '!$A$2) | AE12: =IF($B12="","",'代表者 '!$E$2) | AH12: 中学 3年
A13: 10 | H13: =IF(G13="", "", DATEDIF(G13, DATE(2027, 2,7), "Y")) | L13: =IFERROR(VLOOKUP($K13,部門一覧!$B$3:$C$21,2,FALSE),"") | AD13: =IF($B13="","",'代表者 '!$A$2) | AE13: =IF($B13="","",'代表者 '!$E$2) | AH13: 高校 1年
A14: 11 | H14: =IF(G14="", "", DATEDIF(G14, DATE(2027, 2,7), "Y")) | L14: =IFERROR(VLOOKUP($K14,部門一覧!$B$3:$C$21,2,FALSE),"") | AD14: =IF($B14="","",'代表者 '!$A$2) | AE14: =IF($B14="","",'代表者 '!$E$2) | AH14: 高校 2年
A15: 12 | H15: =IF(G15="", "", DATEDIF(G15, DATE(2027, 2,7), "Y")) | L15: =IFERROR(VLOOKUP($K15,部門一覧!$B$3:$C$21,2,FALSE),"") | AD15: =IF($B15="","",'代表者 '!$A$2) | AE15: =IF($B15="","",'代表者 '!$E$2) | AH15: 高校 3年
A16: 13 | H16: =IF(G16="", "", DATEDIF(G16, DATE(2027, 2,7), "Y")) | L16: =IFERROR(VLOOKUP($K16,部門一覧!$B$3:$C$21,2,FALSE),"") | AD16: =IF($B16="","",'代表者 '!$A$2) | AE16: =IF($B16="","",'代表者 '!$E$2)
A17: 14 | H17: =IF(G17="", "", DATEDIF(G17, DATE(2027, 2,7), "Y")) | L17: =IFERROR(VLOOKUP($K17,部門一覧!$B$3:$C$21,2,FALSE),"") | AD17: =IF($B17="","",'代表者 '!$A$2) | AE17: =IF($B17="","",'代表者 '!$E$2)
A18: 15 | H18: =IF(G18="", "", DATEDIF(G18, DATE(2027, 2,7), "Y")) | L18: =IFERROR(VLOOKUP($K18,部門一覧!$B$3:$C$21,2,FALSE),"") | AD18: =IF($B18="","",'代表者 '!$A$2) | AE18: =IF($B18="","",'代表者 '!$E$2)
A19: 16 | H19: =IF(G19="", "", DATEDIF(G19, DATE(2027, 2,7), "Y")) | L19: =IFERROR(VLOOKUP($K19,部門一覧!$B$3:$C$21,2,FALSE),"") | AD19: =IF($B19="","",'代表者 '!$A$2) | AE19: =IF($B19="","",'代表者 '!$E$2)
A20: 17 | H20: =IF(G20="", "", DATEDIF(G20, DATE(2027, 2,7), "Y")) | L20: =IFERROR(VLOOKUP($K20,部門一覧!$B$3:$C$21,2,FALSE),"") | AD20: =IF($B20="","",'代表者 '!$A$2) | AE20: =IF($B20="","",'代表者 '!$E$2)
A21: 18 | H21: =IF(G21="", "", DATEDIF(G21, DATE(2027, 2,7), "Y")) | L21: =IFERROR(VLOOKUP($K21,部門一覧!$B$3:$C$21,2,FALSE),"") | AD21: =IF($B21="","",'代表者 '!$A$2) | AE21: =IF($B21="","",'代表者 '!$E$2)
A22: 19 | H22: =IF(G22="", "", DATEDIF(G22, DATE(2027, 2,7), "Y")) | L22: =IFERROR(VLOOKUP($K22,部門一覧!$B$3:$C$21,2,FALSE),"") | AD22: =IF($B22="","",'代表者 '!$A$2) | AE22: =IF($B22="","",'代表者 '!$E$2)
A23: 20 | H23: =IF(G23="", "", DATEDIF(G23, DATE(2027, 2,7), "Y")) | L23: =IFERROR(VLOOKUP($K23,部門一覧!$B$3:$C$21,2,FALSE),"") | AD23: =IF($B23="","",'代表者 '!$A$2) | AE23: =IF($B23="","",'代表者 '!$E$2)
A24: 21 | H24: =IF(G24="", "", DATEDIF(G24, DATE(2027, 2,7), "Y")) | L24: =IFERROR(VLOOKUP($K24,部門一覧!$B$3:$C$21,2,FALSE),"") | AD24: =IF($B24="","",'代表者 '!$A$2) | AE24: =IF($B24="","",'代表者 '!$E$2)
A25: 22 | H25: =IF(G25="", "", DATEDIF(G25, DATE(2027, 2,7), "Y")) | L25: =IFERROR(VLOOKUP($K25,部門一覧!$B$3:$C$21,2,FALSE),"") | AD25: =IF($B25="","",'代表者 '!$A$2) | AE25: =IF($B25="","",'代表者 '!$E$2)
A26: 23 | H26: =IF(G26="", "", DATEDIF(G26, DATE(2027, 2,7), "Y")) | L26: =IFERROR(VLOOKUP($K26,部門一覧!$B$3:$C$21,2,FALSE),"") | AD26: =IF($B26="","",'代表者 '!$A$2) | AE26: =IF($B26="","",'代表者 '!$E$2)
A27: 24 | H27: =IF(G27="", "", DATEDIF(G27, DATE(2027, 2,7), "Y")) | L27: =IFERROR(VLOOKUP($K27,部門一覧!$B$3:$C$21,2,FALSE),"") | AD27: =IF($B27="","",'代表者 '!$A$2) | AE27: =IF($B27="","",'代表者 '!$E$2)
... A103: 100 | H103: =IF(G103="", "", DATEDIF(G103, DATE(2027, 2,7), "Y")) | L103: =IFERROR(VLOOKUP($K103,部門一覧!$B$3:$C$21,2,FALSE),"") | AD103: =IF($B103="","",'代表者 '!$A$2) | AE103: =IF($B103="","",'代表者 '!$E$2)
